BEGIN:VCALENDAR
VERSION:2.0
PRODID:-//J&uuml;rgen Franz Oswald - ECPv6.15.20//NONSGML v1.0//EN
CALSCALE:GREGORIAN
METHOD:PUBLISH
X-WR-CALNAME:J&uuml;rgen Franz Oswald
X-ORIGINAL-URL:https://juergenfranzoswald.de
X-WR-CALDESC:Veranstaltungen für J&uuml;rgen Franz Oswald
REFRESH-INTERVAL;VALUE=DURATION:PT1H
X-Robots-Tag:noindex
X-PUBLISHED-TTL:PT1H
BEGIN:VTIMEZONE
TZID:Europe/Berlin
BEGIN:DAYLIGHT
TZOFFSETFROM:+0100
TZOFFSETTO:+0200
TZNAME:CEST
DTSTART:20250330T010000
END:DAYLIGHT
BEGIN:STANDARD
TZOFFSETFROM:+0200
TZOFFSETTO:+0100
TZNAME:CET
DTSTART:20251026T010000
END:STANDARD
BEGIN:DAYLIGHT
TZOFFSETFROM:+0100
TZOFFSETTO:+0200
TZNAME:CEST
DTSTART:20260329T010000
END:DAYLIGHT
BEGIN:STANDARD
TZOFFSETFROM:+0200
TZOFFSETTO:+0100
TZNAME:CET
DTSTART:20261025T010000
END:STANDARD
BEGIN:DAYLIGHT
TZOFFSETFROM:+0100
TZOFFSETTO:+0200
TZNAME:CEST
DTSTART:20270328T010000
END:DAYLIGHT
BEGIN:STANDARD
TZOFFSETFROM:+0200
TZOFFSETTO:+0100
TZNAME:CET
DTSTART:20271031T010000
END:STANDARD
END:VTIMEZONE
BEGIN:VEVENT
DTSTART;VALUE=DATE:20260919
DTEND;VALUE=DATE:20260921
DTSTAMP:20260421T175437
CREATED:20260407T145248Z
LAST-MODIFIED:20260415T111934Z
UID:768-1789776000-1789948799@juergenfranzoswald.de
SUMMARY:Fachtage für Kräuterpadagogik an der LVHS Niederalteich
DESCRIPTION:Veranstaltung von Jürgen Franz Oswald am 20.09.2026 \nDer Wald als Heilraum \n10:30\nJürgen Oswald: Vortrag\nDer Wald als Heilraum – Bäume sind Wissensträger und Seelenbalsam\n• Waldapotheke\n• Ökosystem Wald als Energiespender für Geist und Seele\n• Bäume als Hüter des Heil- und Wissensschatzes\n• Viriditas – heilende Grünkraft zur Unterstützung des spirituellen Bewusstseins \nJürgen Oswald: Workshop Nachmittags\nGeomantie:\nKunst\, die Sprache der Natur zu hören und mit ihr in Resonanz zu treten\n• Praktische Übungen zur Wahrnehmung von Landschaftsqualitäten\n• Einführung in geomantische Prinzipien\n• Raum für persönliche Erfahrung und spirituelle Vertiefung\n• Inspiration zur eigenen Ausrichtung im Einklang mit der Erde\nDer Workshop von Jürgen Oswald findet draußen statt\, bitte an entsprechende Kleidung denken. \nWeitere Informationen und Anmeldung\n 
URL:https://juergenfranzoswald.de/veranstaltung/fachtage-fuer-kraeuterpadagogik-an-der-lvhs-niederalteich/
LOCATION:LVHS Niederalteich\, Hengersberger Straße 10\,\, Niederalteich\, 94557
CATEGORIES:Seminar
ATTACH;FMTTYPE=image/jpeg:https://juergenfranzoswald.de/wp-content/uploads/2026/04/A608BC27-3C40-4450-8130-89CE21EE8F18-rotated.jpeg
END:VEVENT
END:VCALENDAR